Workbook
Name ТО_10__100_000км: 'Тип ТО и комплектации'!$C$12
Name ТО_2__20_000км_24мес: #REF!
Name ТО_2__20_000км_24мес: #REF!
Name ТО_2__20_000км_24мес: #REF!
Name ТО_2__20_000км_24мес: #REF!
Name ТО_2__20_000км_24мес: #REF!
Name ТО_2__20_000км_24мес: #REF!
Name ТО_2__20_000км_24мес: #REF!

Sheet Board
A1: Регламентное техническое обслуживание
A3: МОДЕЛЬ | C3: TO-0* | D3: TO-1 | E3: TO-2** | F3: TO-3** | G3: TO-4** | H3: TO-5** | I3: TO-6** | J3: TO-7** | K3: TO-8** | L3: TO-9** | M3: TO-10** | N3: TO-11** | O3: TO-12** | P3: TO-13** | Q3: TO-14** | R3: TO-15**
A4: ET (E0Y REEV) | B4: 1.5 AWD | C4: =ROUNDUP('ТО-0'!G12,-2) -> 20900 | D4: =ROUNDUP('ТО-1'!G17,-2)-ROUNDUP('ТО-1'!G5,-2) -> 41300 | E4: =ROUNDUP('ТО-2'!G25,-2)-ROUNDUP('ТО-2'!G24,-2)-ROUNDUP('ТО-2'!G5,-2) -> 41200 | F4: =ROUNDUP('ТО-3'!G27,-2)-ROUNDUP('ТО-3'!G26,-2)-ROUNDUP('ТО-3'!G5,-2) -> 41300 | G4: =ROUNDUP('ТО-4'!G29,-2)-ROUNDUP('ТО-4'!G28,-2)-ROUNDUP('ТО-4'!G5,-2) -> 41200 | H4: =$G$4 -> 41200 | I4: =$G$4 -> 41200 | J4: =$G$4 -> 41200 | K4: =$G$4 -> 41200 | L4: =$G$4 -> 41200 | M4: =$G$4 -> 41200 | N4: =$G$4 -> 41200 | O4: =$G$4 -> 41200 | ... R4: =$G$4 -> 41200 | S4: =SUM(C4:R4) -> 639100
A7: Внимание!
A8: Стоимость ТО рассчитана по условию ПРОБЕГ.
A9: Замена жидкости гидропривода тормозов (каждые 40 000 км или 2 года)
A10: *Рекомендовано к проведению, но не обязательно согласно сервисной книжке
A11: **Точная стоимость будет зависеть от выбранных возможных дополнительных работ

Sheet Тип ТО и комплектации
A1: Тип двигателя | B1: Тип трансмиссии | C1: Тип ТО | D1: Норматив н/ч
A2: 1.5 | B2: REEV | C2: ТО-0 (5 000км/2мес) | D2: ='Регламент ТО'!D67 -> 1.8
C3: ТО-1 (10 000км/12мес) | D3: ='Регламент ТО'!E67 -> 2.9
C4: ТО-2 (20 000км/24мес) | D4: ='Регламент ТО'!F67 -> 3.4
C5: ТО-3 (30 000км/36мес) | D5: ='Регламент ТО'!G67 -> 3.2
C6: ТО-4 (40 000км/48мес) | D6: ='Регламент ТО'!H67 -> 5.6
C7: ТО-5 (50 000км/60мес) | D7: ='Регламент ТО'!I67 -> 2.9
C8: ТО-6 (60 000км/72мес) | D8: ='Регламент ТО'!J67 -> 4.3
C9: ТО-7 (70 000км) | D9: ='Регламент ТО'!K67 -> 2.9
C10: ТО-8 (80 000км) | D10: ='Регламент ТО'!L67 -> 5.6
C11: ТО-9 (90 000км) | D11: ='Регламент ТО'!M67 -> 3.2
C12: ТО-10 (100 000км) | D12: ='Регламент ТО'!N67 -> 3.9
C13: ТО-11 (110 000км) | D13: ='Регламент ТО'!O67 -> 2.9
C14: ТО-12 (120 000км) | D14: ='Регламент ТО'!P67 -> 6.5
C15: ТО-13 (130 000км) | D15: ='Регламент ТО'!Q67 -> 2.9
C16: ТО-14 (140 000км) | D16: ='Регламент ТО'!R67 -> 3.4
C17: ТО-15 (150 000км) | D17: ='Регламент ТО'!S67 -> 3.2
A19: Внимание!
A20: Стоимость ТО рассчитана по условию ПРОБЕГ.
A21: Замена жидкости гидропривода тормозов (каждые 40 000 км или 2 года)

Sheet Регламент ТО
B1: Объекты обслуживания (операции обслуживания) | C1: Периодичность обслуживания (пробег автомобиля или продолжительность эксплуатации, в зависимости от того, что наступит ранее)
B2: Время | C2: месяцы | D2: 2 | E2: 12 | F2: 24 | G2: 36 | H2: 48 | I2: 60 | J2: 72 | K2: 84 | L2: 96 | M2: 108 | N2: 120 | O2: 132 | P2: 144 | Q2: 156 | R2: 168 | S2: 180
B3: Общий пробег (полный, по одометру) | C3: х1000 км | D3: 5 | E3: 20 | F3: 40 | G3: 60 | H3: 80 | I3: 100 | J3: 120 | K3: 140 | L3: 160 | M3: 180 | N3: 200 | O3: 220 | P3: 240 | Q3: 260 | R3: 280 | S3: 300
B4: Пробег на топливе (кол-во километров, пройденных при запущенном двигателе, по бортовому компьютеру) | C4: х1000 км | D4: 5 | E4: 10 | F4: 20 | G4: 30 | H4: 40 | I4: 50 | J4: 60 | K4: 70 | L4: 80 | M4: 90 | N4: 100 | O4: 110 | P4: 120 | Q4: 130 | R4: 140 | S4: 150
B5: Операции при прогретом двигателе и трансмиссии
B6: Моторное масло и масляный фильтр | C6: 0.6 | D6: З | E6: З | F6: З | G6: З | H6: З | I6: З | J6: З | K6: З | L6: З | M6: З | N6: З | O6: З | P6: З | Q6: З | R6: З | S6: З
B7: Операции под капотом
B8: Фильтр воздушный двигателя | C8: 0.2 | D8: Заменять каждые 12 месяцев или 10000 км (общий пробег), в зависимости от того, что наступит раньше
B9: Шланги и патрубки систем охлаждения, смазки, трубопроводы топливной системы, крышка топливного бака (отсутствие повреждений, герметичность) | E9: П | F9: П | G9: П | H9: П | I9: П | J9: П | K9: П | L9: П | M9: П | N9: П | O9: П | P9: П | Q9: П | R9: П | S9: П
B10: Жидкость охлаждающая (проверка уровня, плотности и температуры замерзания на каждом ТО. Корректировка уровня - по необходимости) | E10: П | F10: П | G10: П | H10: П | I10: П | J10: П | K10: П | L10: П | M10: П | N10: П | O10: П | P10: П | Q10: П | R10: П | S10: П
B11: Свечи зажигания | C11: 0.3 | D11: Замена каждые 30000 км (пробег на топливе)
B12: Жидкость тормозная гидропривода тормозной системы | C12: 0.5 | D12: Замена каждые 40000 км (общий пробег) или 24 месяца, в зависимости от того, что наступит ранее
B13: Уровень и состояние тормозной жидкости, содержание влаги в тормозной жидкости | E13: П | F13: П | G13: П | H13: П | I13: П | J13: П | K13: П | L13: П | M13: П | N13: П | O13: П | P13: П | Q13: П | R13: П | S13: П
B14: Радиаторы | E14: П | F14: П | G14: П | H14: П | I14: П | J14: П | K14: П | L14: П | M14: П | N14: П | O14: П | P14: П | Q14: П | R14: П | S14: П
B15: Вентилятор системы охлаждения | E15: П | F15: П | G15: П | H15: П | I15: П | J15: П | K15: П | L15: П | M15: П | N15: П | O15: П | P15: П | Q15: П | R15: П | S15: П
B16: Электрический компрессор кондиционера | E16: П | F16: П | G16: П | H16: П | I16: П | J16: П | K16: П | L16: П | M16: П | N16: П | O16: П | P16: П | Q16: П | R16: П | S16: П
B17: Трубки кондиционера | E17: П | F17: П | G17: П | H17: П | I17: П | J17: П | K17: П | L17: П | M17: П | N17: П | O17: П | P17: П | Q17: П | R17: П | S17: П
B18: Конденсатор кондиционера | E18: П | F18: П | G18: П | H18: П | I18: П | J18: П | K18: П | L18: П | M18: П | N18: П | O18: П | P18: П | Q18: П | R18: П | S18: П
B19: Операции под автомобилем
B20: Топливный фильтр | C20: 0.3 | D20: Необслуживаемый (в случае его неисправности необходимо установить ее причину)
B21: Топливный бак, система вентиляции топливного бака, топливные шланги | E21: П | F21: П | G21: П | H21: П | I21: П | J21: П | K21: П | L21: П | M21: П | N21: П | O21: П | P21: П | Q21: П | R21: П | S21: П
B22: Шланги и трубопроводы гидропривода тормозной системы и сцепления* (отсутствие повреждений, герметичность)** | E22: П | F22: П | G22: П | H22: П | I22: П | J22: П | K22: П | L22: П | M22: П | N22: П | O22: П | P22: П | Q22: П | R22: П | S22: П
B23: Детали подвески, включая пыльники, шаровые опоры, шарниры, сайлентблоки (отсутствие люфтов и повреждений), резьбовые крепежные элементы (затяжка) | E23: П | F23: П | G23: П | H23: П | I23: П | J23: П | K23: П | L23: П | M23: П | N23: П | O23: П | P23: П | Q23: П | R23: П | S23: П
B24: Детали рулевого управления (включая пыльники и защитные чехлы), шарниры (наконечники), рулевые тяги (отсутствие люфтов и повреждений) | E24: П | F24: П | G24: П | H24: П | I24: П | J24: П | K24: П | L24: П | M24: П | N24: П | O24: П | P24: П | Q24: П | R24: П | S24: П
B25: Тормозные колодки и тормозные диски (состояние (износ, биение и т.п.)) | E25: П | F25: П | G25: П | H25: П | I25: П | J25: П | K25: П | L25: П | M25: П | N25: П | O25: П | P25: П | Q25: П | R25: П | S25: П
B26: Масляный поддон двигателя и болт сливного отверстия, корпус коробки передач (отсутствие повреждений, герметичность) | E26: П | F26: П | G26: П | H26: П | I26: П | J26: П | K26: П | L26: П | M26: П | N26: П | O26: П | P26: П | Q26: П | R26: П | S26: П
B27: Картер переденего электродвигателя и генератора (трансмиссионная жидкость и фильтр) | C27: 0.9 | D27: Замена каждые 4 года или 40 000 км (общий пробег) в зависимости от того, что наступит ранее
B28: Моменты затяжки болтов ПЭД | E28: П | F28: П | G28: П | H28: П | I28: П | J28: П | K28: П | L28: П | M28: П | N28: П | O28: П | P28: П | Q28: П | R28: П | S28: П
B29: Масло заднего тягового электродвигателя | C29: 0.5 | D29: Замена каждые 5 лет или 100 000 км (общий пробег) в зависимости от того, что наступит ранее
B30: Моменты затяжки болтов ЗЭД | E30: П | F30: П | G30: П | H30: П | I30: П | J30: П | K30: П | L30: П | M30: П | N30: П | O30: П | P30: П | Q30: П | R30: П | S30: П
B31: Внешний вид приводного электродвигателя (визуально) | E31: П | F31: П | G31: П | H31: П | I31: П | J31: П | K31: П | L31: П | M31: П | N31: П | O31: П | P31: П | Q31: П | R31: П | S31: П
B32: Высоковольтные разъёмы и жгуты проводов (визуально) | E32: П | F32: П | G32: П | H32: П | I32: П | J32: П | K32: П | L32: П | M32: П | N32: П | O32: П | P32: П | Q32: П | R32: П | S32: П
B33: Низковольтные разъёмы и жгуты проводов ВАКБ (визуально) | E33: П | F33: П | G33: П | H33: П | I33: П | J33: П | K33: П | L33: П | M33: П | N33: П | O33: П | P33: П | Q33: П | R33: П | S33: П
B34: Внешний вид силовой батареи (визуально) | E34: П | F34: П | G34: П | H34: П | I34: П | J34: П | K34: П | L34: П | M34: П | N34: П | O34: П | P34: П | Q34: П | R34: П | S34: П
B35: Встроенный зарядный блок CDU в сборе (визуально) | E35: П | F35: П | G35: П | H35: П | I35: П | J35: П | K35: П | L35: П | M35: П | N35: П | O35: П | P35: П | Q35: П | R35: П | S35: П
B36: Охлаждающая жидкость ДВС, высоковольтной батареи, тягового электродвигателя (проверка герметичности каждое ТО) | C36: 0.8 | D36: Замена каждые 2 года или 40 000 км (общий пробег), в зависимости от того, что наступит ранее
B37: Трубки охлаждающей жидкости | E37: П | F37: П | G37: П | H37: П | I37: П | J37: П | K37: П | L37: П | M37: П | N37: П | O37: П | P37: П | Q37: П | R37: П | S37: П
B38: Угольный фильтр адсорбера | C38: 0.6 | D38: Замена каждые 3 года или 60 000 км (пробег на топливе) в зависимости от того, что наступит ранее
B39: Операции снаружи автомобиля
B40: Внешние световые приборы (проверка направления светового потока основных и противотуманных* фар), осветительные приборы в салоне автомобиля и звуковой сигнал | E40: П | F40: П | G40: П | H40: П | I40: П | J40: П | K40: П | L40: П | M40: П | N40: П | O40: П | P40: П | Q40: П | R40: П | S40: П
B41: Стеклоочистители и стеклоомыватели ветрового стекла (и заднего стекла)* и исправность, состояние щеток стеклоочистителей | E41: П | F41: П | G41: П | H41: П | I41: П | J41: П | K41: П | L41: П | M41: П | N41: П | O41: П | P41: П | Q41: П | R41: П | S41: П
B42: Визуальная проверка состояния шин, износ протектора шин, давление воздуха в шинах, давление воздуха в шине запасного колеса, момент затяжки колес | E42: П | F42: П | G42: П | H42: П | I42: П | J42: П | K42: П | L42: П | M42: П | N42: П | O42: П | P42: П | Q42: П | R42: П | S42: П
B43: Зарядный порт и крышка зарядного порта | E43: П | F43: П | G43: П | H43: П | I43: П | J43: П | K43: П | L43: П | M43: П | N43: П | O43: П | P43: П | Q43: П | R43: П | S43: П
B44: Наружные и салонные зеркала заднего вида | E44: П | F44: П | G44: П | H44: П | I44: П | J44: П | K44: П | L44: П | M44: П | N44: П | O44: П | P44: П | Q44: П | R44: П | S44: П
B45: Аккумуляторная батарея 12В | E45: П | F45: П | G45: П | H45: П | I45: П | J45: П | K45: П | L45: П | M45: П | N45: П | O45: П | P45: П | Q45: П | R45: П | S45: П
B46: Операции внутри автомобиля
B47: Рулевая колонка (исправность органов управления) | E47: П | F47: П | G47: П | H47: П | I47: П | J47: П | K47: П | L47: П | M47: П | N47: П | O47: П | P47: П | Q47: П | R47: П | S47: П
B48: Проверка состояния тормозной системы, включая свободный и рабочий ход педали тормоза | E48: П | F48: П | G48: П | H48: П | I48: П | J48: П | K48: П | L48: П | M48: П | N48: П | O48: П | P48: П | Q48: П | R48: П | S48: П
B49: Проверка эффективности работы стояночного тормоза | E49: П | F49: П | G49: П | H49: П | I49: П | J49: П | K49: П | L49: П | M49: П | N49: П | O49: П | P49: П | Q49: П | R49: П | S49: П
B50: Контрольно-измерительные приборы (комбинация приборов), кнопки, выключатели, переключатели (исправность). Сброс межсервисного интервала | E50: П | F50: П | G50: П | H50: П | I50: П | J50: П | K50: П | L50: П | M50: П | N50: П | O50: П | P50: П | Q50: П | R50: П | S50: П
B51: Подключение Дилерского сканера, проверка DTC | E51: П | F51: П | G51: П | H51: П | I51: П | J51: П | K51: П | L51: П | M51: П | N51: П | O51: П | P51: П | Q51: П | R51: П | S51: П
B52: Фильтр системы вентиляции и кондиционирования воздуха | C52: 0.5 | D52: Заменять каждые 12 месяцев или 10000 км (общий пробег), в зависимости от того, что наступит раньше
B53: Система вентиляции и кондиционирования воздуха (эффективности отопителя и кондиционера, объём и темеператра воздуха исправность органов управления) | E53: П | F53: П | G53: П | H53: П | I53: П | J53: П | K53: П | L53: П | M53: П | N53: П | O53: П | P53: П | Q53: П | R53: П | S53: П
B54: Звуковой сигнал, рулевое колесо | E54: П | F54: П | G54: П | H54: П | I54: П | J54: П | K54: П | L54: П | M54: П | N54: П | O54: П | P54: П | Q54: П | R54: П | S54: П
B55: USB-порт и Type C-порт | E55: П | F55: П | G55: П | H55: П | I55: П | J55: П | K55: П | L55: П | M55: П | N55: П | O55: П | P55: П | Q55: П | R55: П | S55: П
B56: Проверка работы системы ЭРА ГЛОНАСС | C56: 0.4 | E56: П | F56: П | G56: П | H56: П | I56: П | J56: П | K56: П | L56: П | M56: П | N56: П | O56: П | P56: П | Q56: П | R56: П | S56: П
B57: Проверка углов установки колес | C57: 0.5 | E57: Проведите осмотр каждые 20 000 км (общий пробег)
B58: Проверки
B59: Проверка ходовой части, элементов пневмоподвески, тормозной системы, элементов рулевого управления. Оценка состояния ЛКМ кузова, агрегатных ремней, щеток стеклоочистителя. Контроль уровней, состояния и наличия утечек эксплуатационных жидкостей. | C59: 0.5 | D59: Данный норматив включает проверки, перечисленные в таблице выше.
B60: Проверка электронных систем автомобиля (панель приборов, мультимедийная система, климат контроль и т.д.), считывание кодов неисправностей, проверка системы Глонасс. Проверка внешних осветительных приборов, проверка элементов высоковольтной системы. | C60: 0.5 | D60: Данный норматив включает проверки, перечисленные в таблице выше.
B61: Проверка моментов затяжки болтов электродвигателей | C61: 0.2 | D61: Данный норматив включает проверки, перечисленные в таблице выше.
B62: Дополнительные рекомендованные операции (не включены в общий норматив)
B63: Дроссельная заслонка | C63: 0.5 | D63: Очистка рекомендована каждые 15000 км (пробег на топливе)
B64: Перестановка колес (включая программирование датчиков давления) | C64: 0.5 | D64: Рекомендуется выполнять перестановку колес не реже каждых 10000 км (общий пробег) пробега
B65: Регулировка углов установки колес | C65: 1.3 | D65: Проверка и при необходимости регулировка углов установки всех четырех колес рекомендована каждые 20000 км (общий пробег)
D66: 5 | E66: 10 | F66: 20 | G66: 30 | H66: 40 | I66: 50 | J66: 60 | K66: 70 | L66: 80 | M66: 90 | N66: 100 | O66: 110 | P66: 120 | Q66: 130 | R66: 140 | S66: 150
B67: Старые нормативы | D67: =C6+C60+C61+C59 -> 1.8 | E67: =C6+C8+C52+C59+C60+C61+C56 -> 2.9 | F67: =C6+C8+C52+C59+C60+C61+C57+C56 -> 3.4 | G67: =C6+C8+C11+C52+C59+C60+C61+C56 -> 3.2 | H67: =C6+C8+C12+C52+C59+C60+C61+C36+C27+C57+C56 -> 5.6 | I67: =C6+C8+C52+C59+C60+C61+C56 -> 2.9 | J67: =C6+C8+C11+C52+C59+C60+C61+C38+C57+C56 -> 4.3 | K67: =C6+C8+C52+C59+C60+C61+C56 -> 2.9 | L67: =C6+C8+C12+C52+C59+C60+C61+C36+C27+C57+C56 -> 5.6 | M67: =C6+C8+C11+C52+C59+C60+C61+C56 -> 3.2 | N67: =C6+C8+C52+C59+C60+C61+C29+C57+C56 -> 3.9 | O67: =C6+C8+C52+C59+C60+C61+C56 -> 2.9 | P67: =C6+C8+C11+C12+C52+C59+C60+C61+C38+C36+C27+C57+C56 -> 6.5 | Q67: =C6+C8+C52+C59+C60+C61+C56 -> 2.9 | R67: =C6+C8+C52+C59+C60+C61+C57+C56 -> 3.4 | S67: =C6+C8+C11+C52+C59+C60+C61+C56 -> 3.2
T68: всего:
B69: Стоимость нормо/час | C69: 8000 | D69: =D67*$C$69 -> 14400 | E69: =E67*$C$69 -> 23200 | F69: =F67*$C$69 -> 27200 | G69: =G67*$C$69 -> 25600 | H69: =H67*$C$69 -> 44800 | I69: =I67*$C$69 -> 23200 | J69: =J67*$C$69 -> 34400 | K69: =K67*$C$69 -> 23200 | ... S69: =S67*$C$69 -> 25600 | T69: =SUM(D69:S69) -> 468800
B70: Обязательные операции: | E70: =C61+C60+C59+C6+C56+C52+C8 -> 2.9 | F70: =$E$70 -> 2.9 | G70: =$E$70 -> 2.9 | H70: =$E$70 -> 2.9 | I70: =$E$70 -> 2.9 | J70: =$E$70 -> 2.9 | K70: =$E$70 -> 2.9 | L70: =$E$70 -> 2.9 | M70: =$E$70 -> 2.9 | ... S70: =$E$70 -> 2.9
B71: Возможные дополнительные операции: | E71: =C57 -> 0.5 | F71: =C12+C27+C36+C57 -> 2.7 | G71: =C12+C27+C36+C57+C11+C38 -> 3.6 | H71: =C12+C27+C36+C57+C11+C38+C29 -> 4.1 | I71: =$H$71 -> 4.1 | J71: =$H$71 -> 4.1 | K71: =$H$71 -> 4.1 | L71: =$H$71 -> 4.1 | M71: =$H$71 -> 4.1 | N71: =$H$71 -> 4.1 | O71: =$H$71 -> 4.1 | P71: =$H$71 -> 4.1 | ... S71: =$H$71 -> 4.1
B72: Дополнительные рекомендованные операции : | E72: =C65+C64+C63 -> 2.3 | F72: =$E$72 -> 2.3 | G72: =$E$72 -> 2.3 | H72: =$E$72 -> 2.3 | I72: =$E$72 -> 2.3 | J72: =$E$72 -> 2.3 | K72: =$E$72 -> 2.3 | L72: =$E$72 -> 2.3 | M72: =$E$72 -> 2.3 | ... S72: =$E$72 -> 2.3

Sheet Материалы
A1: Наименование | B1: Кат. номер | C1: МЦП с НДС 05.03.25 | D1: Единица измерения (л/шт) | E1: К-во | F1: Сумма материалы
A2: ФИЛЬТР МАСЛЯНЫЙ T15/JT18/J42/T19/T1A/T11FL3/T1E/T19/T1D/A11/A13/J15/A21/A19/J69/S18D | B2: 480-1012010 | C2: 911.51 | D2: шт. | E2: 1 | F2: =C2*E2 -> 911.51
A3: ПРОБКА ПОДДОНА ДВС СЛИВНАЯ МЕТАЛЛ | B3: 372-1009014 | C3: 181.11 | D3: шт. | E3: 1 | F3: =C3*E3 -> 181.11
A4: ШАЙБА СЛИВНОЙ ПРОБКИ ДВС | B4: 372-1009017 | C4: 53.69 | D4: шт. | E4: 1 | F4: =C4*E4 -> 53.69
A5: Масло моторное Exeed 0W-20 API SP, ILSAC GF-6A, нк. 200 л | B5: EXEED0W20200 | C5: 212261.86 | D5: литр | E5: 4.5 | F5: =(C5*E5)/200 -> 4775.8919
A6: ФИЛЬТР САЛОНА | B6: 301003303AA | C6: 5395.96 | D6: шт. | E6: 1 | F6: =C6*E6 -> 5395.96
A7: ФИЛЬТР ВОЗДУШНЫЙ | B7: 151000342AA | C7: 5300.19 | D7: шт. | E7: 1 | F7: =C7*E7 -> 5300.19
A8: СВЕЧА ЗАЖИГАНИЯ T28P/M1EP/T1P-PHEV/T1JPHEV/T1EJP/T22PHEV/E0Y/T26P | B8: 111200018AA | C8: 2093.46 | D8: шт. | E8: 4 | F8: =C8*E8 -> 8373.84
A9: Спрей-очиститель карбюратора 0,4л | B9: 3918 | C9: 1835.5 | D9: шт. | E9: 1 | F9: =C9*E9 -> 1835.5
A10: Тормозная жидкость EXEED DOT4 (1л) | B10: 17321759 | C10: 796.82292 | D10: шт. | E10: 1 | F10: =C10*E10 -> 796.82292
A11: Антифриз «EXEED» ОАТ 1л. | B11: EXEEDOAT1L | C11: 249.99547 | D11: литр | E11: 22 | F11: =(E11*C11)/200 -> 27.499502
A12: ФИЛЬТР БАКА (АДСОРБЕР) T18FL3PHEV/T1DPHEV | B12: 155000485AA | C12: 2611.38 | D12: шт. | E12: 1 | F12: =C12*E12 -> 2611.38
A13: Масло заднего тягового двигателя | B13: SM12100002NE10 | C13: 5103.63 | D13: литр | E13: 1.4 | F13: =E13*C13 -> 7145.082
A14: Пробка заднего тягового двигателя | B14: 0 | C14: 500 | D14: шт. | E14: 1 | F14: =E14*C14 -> 500
A15: Масло переднего тягового двигателя (трансмиссии) | B15: 351HHA-4004011AA10 | C15: 2600.06 | D15: литр | E15: 4.8 | F15: =E15*C15 -> 12480.288
A16: НАПОРНЫЙ ФИЛЬТР T26P/T22P/M1EP/T1JPHEV/T28P | B16: 125200000AA | C16: 1127.47 | D16: шт. | E16: 1 | F16: =E16*C16 -> 1127.47
A17: Прокладка корпуса фильтра переднего тягового мотора (трансмиссии) | B17: 125200041AA | C17: 215.51 | D17: шт. | E17: 1 | F17: =E17*C17 -> 215.51
A18: Сливная пробка переднего тягового двигателя (трансмиссии) | B18: 125100038AA | C18: 343.98 | D18: шт. | E18: 1 | F18: =E18*C18 -> 343.98
A19: ШАЙБА СЛИВНОГО БОЛТА КПП T1D/T1C/X-1PHEV/T18FL3PHEV | B19: 351HHA-1502191 | C19: 142.02 | D19: шт. | E19: 1 | F19: =E19*C19 -> 142.02
A20: Расходные материалы | B20: rashodnik | C20: 900 | D20: шт. | E20: 1 | F20: =C20*E20 -> 900
A21: Тефлоновая смазка для выдвижных ручек | B21: 3258 | C21: 512.82 | D21: шт. | E21: 1 | F21: =C21*E21 -> 512.82
A23: Внимание!
A24: Стоимость ТО рассчитана по условию ПРОБЕГ.
A25: Замена жидкости гидропривода тормозов (каждые 40 000 км или 2 года)

Sheet Рабочие операции
A1: Наименование рабочей операции | B1: Номер рабочей операции | C1: ET REEV
A2: Моторное масло и масляный фильтр - замена | B2: E03KKK40060113701 | C2: 0.6
A3: Масло переднего тягового мотора (трансмиссии) - замена | B3: E03KKK10000032201 | C3: 0.9
A4: Масло заднего тягового мотора - замена | B4: E03KKK12100003701 | C4: 0.5
A5: Антифриз - замена | B5: E03KKK10000022201 | C5: 0.8
A6: Жидкость тормозная гидропривода тормозной системы - замена | B6: E03KKK10000002201 | C6: 0.5
A7: Слив и запарвка халадгента системы кондиционирвоания | B7: E03KKK10000012201 | C7: 0.5
A8: Фильтр воздушный двигателя - замена | B8: E03POA10003422701 | C8: 0.2
A9: Свечи зажигания - замена | B9: E03POW12000182751 Ex:E03POW12000232701 | C9: 0.3
A10: Дроссельная заслонка - снятие/установка/чистка | B10: E03POW37650102701 | C10: 0.5
A11: Угольный фильтр абсорбера - замена | B11: E03POA50004852751 Ex:E03CAD20047362701 | C11: 0.6
A12: Топливный фильтр - замена | B12: E03POA11171102751 Ex:E03CAD90045352701 | C12: 0.3
A13: Перестановка 4-х колес | B13: E03CHA30012922754 | C13: 0.5
... A15: Проверка и регулировка углов установки колес | B15: E03KKK10000001200 | C15: 1.8
A16: Проверка ходовой части, элементов пневмоподвески, тормозной системы, элементов рулевого управления. Оценка состояния ЛКМ кузова, агрегатных ремней, щеток стеклоочистителя. Контроль уровней, состояния и наличия утечек эксплуатационных жидкостей. | C16: 0.5
A17: Проверка электронных систем автомобиля (панель приборов, мультимедийная система, климат контроль и т.д.), считывание кодов неисправностей, проверка системы Глонасс. Проверка внешних осветительных приборов, проверка элементов высоковольтной системы. | C17: 0.7
A18: Проверка моментов затяжки болтов электродвигателей | C18: 0.2

Sheet ТО-0
A1: 1.5 AWD | C1: ТО-0
C2: Наименование операции и норма времени, н/ч | F2: Стоимость нормочаса, руб | G2: Стоимость работ, руб
A3: Обязательные операции | B3: AWD | C3: ТО-0 (5000км/2мес.) | D3: ='Регламент ТО'!D67 -> 1.8 | F3: ='Регламент ТО'!C69 -> 8000 | G3: =F3*D3 -> 14400
C5: Вид | D5: Артикул | E5: Количество, л(шт) | F5: Стоимость единицы наименования | G5: Стоимость
C6: =Материалы!A2 -> ФИЛЬТР МАСЛЯНЫЙ T15/JT18/J42/T19/T1A/T11FL3/T1E/T19/T1D/A11/A13/J15/A21/A19/J69/S18D | D6: =Материалы!B2 -> 480-1012010 | E6: =Материалы!E2 -> 1 | F6: =Материалы!F2 -> 911.51 | G6: =F6*E6 -> 911.51
C7: =Материалы!A21 -> Тефлоновая смазка для выдвижных ручек | D7: =Материалы!B21 -> 3258 | E7: =Материалы!E21 -> 1 | F7: =Материалы!C21 -> 512.82 | G7: =F7*E7 -> 512.82
C8: =Материалы!A3 -> ПРОБКА ПОДДОНА ДВС СЛИВНАЯ МЕТАЛЛ | D8: =Материалы!B3 -> 372-1009014 | E8: =Материалы!E3 -> 1 | F8: =Материалы!C3 -> 181.11 | G8: =E8*F8 -> 181.11
C9: =Материалы!A5 -> Масло моторное Exeed 0W-20 API SP, ILSAC GF-6A, нк. 200 л | D9: =Материалы!B5 -> EXEED0W20200 | E9: =Материалы!E5 -> 4.5 | F9: =Материалы!C5 -> 212261.86 | G9: =(F9*E9)/200 -> 4775.8919
C10: =Материалы!A4 -> ШАЙБА СЛИВНОЙ ПРОБКИ ДВС | D10: =Материалы!B4 -> 372-1009017 | E10: =Материалы!E4 -> 1 | F10: =Материалы!C4 -> 53.69 | G10: =E10*F10 -> 53.69
C11: Итого обязательные к замене расходные материалы | G11: =SUM(G6:G10) -> 6435.0219
A12: Итого обязательные к замене расходные материалы и работы | G12: =G11+G3 -> 20835.022

Sheet ТО-1
A1: 1.5 AWD | C1: ТО-1
C2: Наименование операции и норма времени, н/ч | F2: Стоимость нормочаса, руб | G2: Стоимость работ, руб
A3: Обязательные операции | B3: AWD | C3: ТО-1 (10000км пробега на топливе / 20000км общего пробега / 12мес. - что раньше) | D3: ='Регламент ТО'!E67 -> 2.9 | F3: ='Регламент ТО'!$C$69 -> 8000 | G3: =F3*D3 -> 23200
A5: Возможные доп. операции | D5: ='Регламент ТО'!E71 -> 0.5 | F5: ='Регламент ТО'!$C$69 -> 8000 | G5: =F5*D5 -> 4000
C7: Вид | D7: Артикул | E7: Количество, л(шт) | F7: Стоимость единицы наименования | G7: Стоимость
C8: =Материалы!A2 -> ФИЛЬТР МАСЛЯНЫЙ T15/JT18/J42/T19/T1A/T11FL3/T1E/T19/T1D/A11/A13/J15/A21/A19/J69/S18D | D8: =Материалы!B2 -> 480-1012010 | E8: =Материалы!E2 -> 1 | F8: =Материалы!F2 -> 911.51 | G8: =F8*E8 -> 911.51
C9: =Материалы!A21 -> Тефлоновая смазка для выдвижных ручек | D9: =Материалы!B21 -> 3258 | E9: =Материалы!E21 -> 1 | F9: =Материалы!C21 -> 512.82 | G9: =F9*E9 -> 512.82
C10: =Материалы!A20 -> Расходные материалы | D10: =Материалы!B20 -> rashodnik | E10: =Материалы!E20 -> 1 | F10: =Материалы!C20 -> 900 | G10: =F10*E10 -> 900
C11: =Материалы!A3 -> ПРОБКА ПОДДОНА ДВС СЛИВНАЯ МЕТАЛЛ | D11: =Материалы!B3 -> 372-1009014 | E11: =Материалы!E3 -> 1 | F11: =Материалы!C3 -> 181.11 | G11: =E11*F11 -> 181.11
C12: =Материалы!A5 -> Масло моторное Exeed 0W-20 API SP, ILSAC GF-6A, нк. 200 л | D12: =Материалы!B5 -> EXEED0W20200 | E12: =Материалы!E5 -> 4.5 | F12: =Материалы!C5 -> 212261.86 | G12: =(F12*E12)/200 -> 4775.8919
C13: =Материалы!A4 -> ШАЙБА СЛИВНОЙ ПРОБКИ ДВС | D13: =Материалы!B4 -> 372-1009017 | E13: =Материалы!E4 -> 1 | F13: =Материалы!C4 -> 53.69 | G13: =E13*F13 -> 53.69
C14: =Материалы!A6 -> ФИЛЬТР САЛОНА | D14: =Материалы!B6 -> 301003303AA | E14: =Материалы!E6 -> 1 | F14: =Материалы!C6 -> 5395.96 | G14: =E14*F14 -> 5395.96
C15: =Материалы!A7 -> ФИЛЬТР ВОЗДУШНЫЙ | D15: =Материалы!B7 -> 151000342AA | E15: =Материалы!E7 -> 1 | F15: =Материалы!C7 -> 5300.19 | G15: =E15*F15 -> 5300.19
C16: Итого обязательные к замене расходные материалы | G16: =SUM(G8:G15) -> 18031.172
A17: Итого все возможные расходные материалы и работы | G17: =G3+G5+G16 -> 45231.172

Sheet ТО-2
A1: 1.5 AWD | C1: ТО-2
C2: Наименование операции и норма времени, н/ч | F2: Стоимость нормочаса, руб | G2: Стоимость работ, руб
A3: Обязательные операции | B3: AWD | C3: ТО-2 (проводится при достижении 10000км пробега на топливе / 20000км общего пробега / 12мес. - что раньше после прохождения ТО-1) | D3: ='Регламент ТО'!$E$70 -> 2.9 | F3: ='Регламент ТО'!$C$69 -> 8000 | G3: =F3*D3 -> 23200
A5: Возможные доп. операции | D5: ='Регламент ТО'!F71 -> 2.7 | F5: ='Регламент ТО'!$C$69 -> 8000 | G5: =F5*D5 -> 21600
C7: Вид | D7: Артикул | E7: Количество, л(шт) | F7: Стоимость единицы наименования | G7: Стоимость
C8: =Материалы!A2 -> ФИЛЬТР МАСЛЯНЫЙ T15/JT18/J42/T19/T1A/T11FL3/T1E/T19/T1D/A11/A13/J15/A21/A19/J69/S18D | D8: =Материалы!B2 -> 480-1012010 | E8: =Материалы!E2 -> 1 | F8: =Материалы!F2 -> 911.51 | G8: =F8*E8 -> 911.51
C9: =Материалы!A21 -> Тефлоновая смазка для выдвижных ручек | D9: =Материалы!B21 -> 3258 | E9: =Материалы!E21 -> 1 | F9: =Материалы!C21 -> 512.82 | G9: =F9*E9 -> 512.82
C10: =Материалы!A20 -> Расходные материалы | D10: =Материалы!B20 -> rashodnik | E10: =Материалы!E20 -> 1 | F10: =Материалы!C20 -> 900 | G10: =F10*E10 -> 900
C11: =Материалы!A3 -> ПРОБКА ПОДДОНА ДВС СЛИВНАЯ МЕТАЛЛ | D11: =Материалы!B3 -> 372-1009014 | E11: =Материалы!E3 -> 1 | F11: =Материалы!C3 -> 181.11 | G11: =E11*F11 -> 181.11
C12: =Материалы!A5 -> Масло моторное Exeed 0W-20 API SP, ILSAC GF-6A, нк. 200 л | D12: =Материалы!B5 -> EXEED0W20200 | E12: =Материалы!E5 -> 4.5 | F12: =Материалы!C5 -> 212261.86 | G12: =(F12*E12)/200 -> 4775.8919
C13: =Материалы!A4 -> ШАЙБА СЛИВНОЙ ПРОБКИ ДВС | D13: =Материалы!B4 -> 372-1009017 | E13: =Материалы!E4 -> 1 | F13: =Материалы!C4 -> 53.69 | G13: =E13*F13 -> 53.69
C14: =Материалы!A6 -> ФИЛЬТР САЛОНА | D14: =Материалы!B6 -> 301003303AA | E14: =Материалы!E6 -> 1 | F14: =Материалы!C6 -> 5395.96 | G14: =E14*F14 -> 5395.96
C15: =Материалы!A7 -> ФИЛЬТР ВОЗДУШНЫЙ | D15: =Материалы!B7 -> 151000342AA | E15: =Материалы!E7 -> 1 | F15: =Материалы!C7 -> 5300.19 | G15: =E15*F15 -> 5300.19
C16: Итого обязательные к замене расходные материалы | G16: =SUM(G8:G15) -> 18031.172
C17: =Материалы!A11 -> Антифриз «EXEED» ОАТ 1л. | D17: =Материалы!B11 -> EXEEDOAT1L | E17: =Материалы!E11 -> 22 | F17: =Материалы!C11 -> 249.99547 | G17: =(F17*E17) -> 5499.9004
C18: =Материалы!A15 -> Масло переднего тягового двигателя (трансмиссии) | D18: =Материалы!B15 -> 351HHA-4004011AA10 | E18: =Материалы!E15 -> 4.8 | F18: =Материалы!C15 -> 2600.06 | G18: =E18*F18 -> 12480.288
C19: =Материалы!A16 -> НАПОРНЫЙ ФИЛЬТР T26P/T22P/M1EP/T1JPHEV/T28P | D19: =Материалы!B16 -> 125200000AA | E19: =Материалы!E16 -> 1 | F19: =Материалы!C16 -> 1127.47 | G19: =E19*F19 -> 1127.47
C20: =Материалы!A17 -> Прокладка корпуса фильтра переднего тягового мотора (трансмиссии) | D20: =Материалы!B17 -> 125200041AA | E20: =Материалы!E17 -> 1 | F20: =Материалы!C17 -> 215.51 | G20: =E20*F20 -> 215.51
C21: =Материалы!A18 -> Сливная пробка переднего тягового двигателя (трансмиссии) | D21: =Материалы!B18 -> 125100038AA | E21: =Материалы!E18 -> 1 | F21: =Материалы!C18 -> 343.98 | G21: =E21*F21 -> 343.98
C22: =Материалы!A19 -> ШАЙБА СЛИВНОГО БОЛТА КПП T1D/T1C/X-1PHEV/T18FL3PHEV | D22: =Материалы!B19 -> 351HHA-1502191 | E22: =Материалы!E19 -> 1 | F22: =Материалы!C19 -> 142.02 | G22: =E22*F22 -> 142.02
C23: =Материалы!A10 -> Тормозная жидкость EXEED DOT4 (1л) | D23: =Материалы!B10 -> 17321759 | E23: =Материалы!E10 -> 1 | F23: =Материалы!C10 -> 796.82292 | G23: =E23*F23 -> 796.82292
C24: Итого возможные дополнительные к замене расходные материалы | G24: =SUM(G17:G23) -> 20605.991
A25: Итого все возможные расходные материалы и работы | G25: =G3+G5+G16+G24 -> 83437.163

Sheet ТО-3
A1: 1.5 AWD | C1: ТО-3
C2: Наименование операции и норма времени, н/ч | F2: Стоимость нормочаса, руб | G2: Стоимость работ, руб
A3: Обязательные операции | B3: AWD | C3: ТО-3 (проводится при достижении 10000км пробега на топливе / 20000км общего пробега / 12мес. - что раньше после прохождения ТО-2) | D3: ='Регламент ТО'!$E$70 -> 2.9 | F3: ='Регламент ТО'!$C$69 -> 8000 | G3: =F3*D3 -> 23200
A5: Возможные доп. операции | D5: ='Регламент ТО'!G71 -> 3.6 | F5: ='Регламент ТО'!$C$69 -> 8000 | G5: =F5*D5 -> 28800
C7: Вид | D7: Артикул | E7: Количество, л(шт) | F7: Стоимость единицы наименования | G7: Стоимость
C8: =Материалы!A2 -> ФИЛЬТР МАСЛЯНЫЙ T15/JT18/J42/T19/T1A/T11FL3/T1E/T19/T1D/A11/A13/J15/A21/A19/J69/S18D | D8: =Материалы!B2 -> 480-1012010 | E8: =Материалы!E2 -> 1 | F8: =Материалы!F2 -> 911.51 | G8: =F8*E8 -> 911.51
C9: =Материалы!A21 -> Тефлоновая смазка для выдвижных ручек | D9: =Материалы!B21 -> 3258 | E9: =Материалы!E21 -> 1 | F9: =Материалы!C21 -> 512.82 | G9: =F9*E9 -> 512.82
C10: =Материалы!A20 -> Расходные материалы | D10: =Материалы!B20 -> rashodnik | E10: =Материалы!E20 -> 1 | F10: =Материалы!C20 -> 900 | G10: =F10*E10 -> 900
C11: =Материалы!A3 -> ПРОБКА ПОДДОНА ДВС СЛИВНАЯ МЕТАЛЛ | D11: =Материалы!B3 -> 372-1009014 | E11: =Материалы!E3 -> 1 | F11: =Материалы!C3 -> 181.11 | G11: =E11*F11 -> 181.11
C12: =Материалы!A5 -> Масло моторное Exeed 0W-20 API SP, ILSAC GF-6A, нк. 200 л | D12: =Материалы!B5 -> EXEED0W20200 | E12: =Материалы!E5 -> 4.5 | F12: =Материалы!C5 -> 212261.86 | G12: =(F12*E12)/200 -> 4775.8919
C13: =Материалы!A4 -> ШАЙБА СЛИВНОЙ ПРОБКИ ДВС | D13: =Материалы!B4 -> 372-1009017 | E13: =Материалы!E4 -> 1 | F13: =Материалы!C4 -> 53.69 | G13: =E13*F13 -> 53.69
C14: =Материалы!A6 -> ФИЛЬТР САЛОНА | D14: =Материалы!B6 -> 301003303AA | E14: =Материалы!E6 -> 1 | F14: =Материалы!C6 -> 5395.96 | G14: =E14*F14 -> 5395.96
C15: =Материалы!A7 -> ФИЛЬТР ВОЗДУШНЫЙ | D15: =Материалы!B7 -> 151000342AA | E15: =Материалы!E7 -> 1 | F15: =Материалы!C7 -> 5300.19 | G15: =E15*F15 -> 5300.19
C16: Итого обязательные к замене расходные материалы | G16: =SUM(G8:G15) -> 18031.172
C17: =Материалы!A11 -> Антифриз «EXEED» ОАТ 1л. | D17: =Материалы!B11 -> EXEEDOAT1L | E17: =Материалы!E11 -> 22 | F17: =Материалы!C11 -> 249.99547 | G17: =(F17*E17) -> 5499.9004
C18: =Материалы!A15 -> Масло переднего тягового двигателя (трансмиссии) | D18: =Материалы!B15 -> 351HHA-4004011AA10 | E18: =Материалы!E15 -> 4.8 | F18: =Материалы!C15 -> 2600.06 | G18: =E18*F18 -> 12480.288
C19: =Материалы!A16 -> НАПОРНЫЙ ФИЛЬТР T26P/T22P/M1EP/T1JPHEV/T28P | D19: =Материалы!B16 -> 125200000AA | E19: =Материалы!E16 -> 1 | F19: =Материалы!C16 -> 1127.47 | G19: =E19*F19 -> 1127.47
C20: =Материалы!A17 -> Прокладка корпуса фильтра переднего тягового мотора (трансмиссии) | D20: =Материалы!B17 -> 125200041AA | E20: =Материалы!E17 -> 1 | F20: =Материалы!C17 -> 215.51 | G20: =E20*F20 -> 215.51
C21: =Материалы!A18 -> Сливная пробка переднего тягового двигателя (трансмиссии) | D21: =Материалы!B18 -> 125100038AA | E21: =Материалы!E18 -> 1 | F21: =Материалы!C18 -> 343.98 | G21: =E21*F21 -> 343.98
C22: =Материалы!A19 -> ШАЙБА СЛИВНОГО БОЛТА КПП T1D/T1C/X-1PHEV/T18FL3PHEV | D22: =Материалы!B19 -> 351HHA-1502191 | E22: =Материалы!E19 -> 1 | F22: =Материалы!C19 -> 142.02 | G22: =E22*F22 -> 142.02
C23: =Материалы!A10 -> Тормозная жидкость EXEED DOT4 (1л) | D23: =Материалы!B10 -> 17321759 | E23: =Материалы!E10 -> 1 | F23: =Материалы!C10 -> 796.82292 | G23: =E23*F23 -> 796.82292
C24: =Материалы!A8 -> СВЕЧА ЗАЖИГАНИЯ T28P/M1EP/T1P-PHEV/T1JPHEV/T1EJP/T22PHEV/E0Y/T26P | D24: =Материалы!B8 -> 111200018AA | E24: =Материалы!E8 -> 4 | F24: =Материалы!C8 -> 2093.46 | G24: =E24*F24 -> 8373.84
C25: =Материалы!A12 -> ФИЛЬТР БАКА (АДСОРБЕР) T18FL3PHEV/T1DPHEV | D25: =Материалы!B12 -> 155000485AA | E25: =Материалы!E12 -> 1 | F25: =Материалы!C12 -> 2611.38 | G25: =F25*E25 -> 2611.38
C26: Итого возможные дополнительные к замене расходные материалы | G26: =SUM(G17:G25) -> 31591.211
A27: Итого все возможные расходные материалы и работы | G27: =G3+G5+G16+G26 -> 101622.38

Sheet ТО-4
A1: 1.5 AWD | C1: ТО-4
C2: Наименование операции и норма времени, н/ч | F2: Стоимость нормочаса, руб | G2: Стоимость работ, руб
A3: Обязательные операции | B3: AWD | C3: ТО-4 (проводится при достижении 10000км пробега на топливе / 20000км общего пробега / 12мес. - что раньше после прохождения ТО-3) | D3: ='Регламент ТО'!$E$70 -> 2.9 | F3: ='Регламент ТО'!$C$69 -> 8000 | G3: =F3*D3 -> 23200
A5: Возможные доп. операции | D5: ='Регламент ТО'!H71 -> 4.1 | F5: ='Регламент ТО'!$C$69 -> 8000 | G5: =F5*D5 -> 32800
C7: Вид | D7: Артикул | E7: Количество, л(шт) | F7: Стоимость единицы наименования | G7: Стоимость
C8: =Материалы!A2 -> ФИЛЬТР МАСЛЯНЫЙ T15/JT18/J42/T19/T1A/T11FL3/T1E/T19/T1D/A11/A13/J15/A21/A19/J69/S18D | D8: =Материалы!B2 -> 480-1012010 | E8: =Материалы!E2 -> 1 | F8: =Материалы!F2 -> 911.51 | G8: =F8*E8 -> 911.51
C9: =Материалы!A21 -> Тефлоновая смазка для выдвижных ручек | D9: =Материалы!B21 -> 3258 | E9: =Материалы!E21 -> 1 | F9: =Материалы!C21 -> 512.82 | G9: =F9*E9 -> 512.82
C10: =Материалы!A20 -> Расходные материалы | D10: =Материалы!B20 -> rashodnik | E10: =Материалы!E20 -> 1 | F10: =Материалы!C20 -> 900 | G10: =F10*E10 -> 900
C11: =Материалы!A3 -> ПРОБКА ПОДДОНА ДВС СЛИВНАЯ МЕТАЛЛ | D11: =Материалы!B3 -> 372-1009014 | E11: =Материалы!E3 -> 1 | F11: =Материалы!C3 -> 181.11 | G11: =E11*F11 -> 181.11
C12: =Материалы!A5 -> Масло моторное Exeed 0W-20 API SP, ILSAC GF-6A, нк. 200 л | D12: =Материалы!B5 -> EXEED0W20200 | E12: =Материалы!E5 -> 4.5 | F12: =Материалы!C5 -> 212261.86 | G12: =(F12*E12)/200 -> 4775.8919
C13: =Материалы!A4 -> ШАЙБА СЛИВНОЙ ПРОБКИ ДВС | D13: =Материалы!B4 -> 372-1009017 | E13: =Материалы!E4 -> 1 | F13: =Материалы!C4 -> 53.69 | G13: =E13*F13 -> 53.69
C14: =Материалы!A6 -> ФИЛЬТР САЛОНА | D14: =Материалы!B6 -> 301003303AA | E14: =Материалы!E6 -> 1 | F14: =Материалы!C6 -> 5395.96 | G14: =E14*F14 -> 5395.96
C15: =Материалы!A7 -> ФИЛЬТР ВОЗДУШНЫЙ | D15: =Материалы!B7 -> 151000342AA | E15: =Материалы!E7 -> 1 | F15: =Материалы!C7 -> 5300.19 | G15: =E15*F15 -> 5300.19
C16: Итого обязательные к замене расходные материалы | G16: =SUM(G8:G15) -> 18031.172
C17: =Материалы!A11 -> Антифриз «EXEED» ОАТ 1л. | D17: =Материалы!B11 -> EXEEDOAT1L | E17: =Материалы!E11 -> 22 | F17: =Материалы!C11 -> 249.99547 | G17: =(F17*E17) -> 5499.9004
C18: =Материалы!A15 -> Масло переднего тягового двигателя (трансмиссии) | D18: =Материалы!B15 -> 351HHA-4004011AA10 | E18: =Материалы!E15 -> 4.8 | F18: =Материалы!C15 -> 2600.06 | G18: =E18*F18 -> 12480.288
C19: =Материалы!A16 -> НАПОРНЫЙ ФИЛЬТР T26P/T22P/M1EP/T1JPHEV/T28P | D19: =Материалы!B16 -> 125200000AA | E19: =Материалы!E16 -> 1 | F19: =Материалы!C16 -> 1127.47 | G19: =E19*F19 -> 1127.47
C20: =Материалы!A17 -> Прокладка корпуса фильтра переднего тягового мотора (трансмиссии) | D20: =Материалы!B17 -> 125200041AA | E20: =Материалы!E17 -> 1 | F20: =Материалы!C17 -> 215.51 | G20: =E20*F20 -> 215.51
C21: =Материалы!A18 -> Сливная пробка переднего тягового двигателя (трансмиссии) | D21: =Материалы!B18 -> 125100038AA | E21: =Материалы!E18 -> 1 | F21: =Материалы!C18 -> 343.98 | G21: =E21*F21 -> 343.98
C22: =Материалы!A19 -> ШАЙБА СЛИВНОГО БОЛТА КПП T1D/T1C/X-1PHEV/T18FL3PHEV | D22: =Материалы!B19 -> 351HHA-1502191 | E22: =Материалы!E19 -> 1 | F22: =Материалы!C19 -> 142.02 | G22: =E22*F22 -> 142.02
C23: =Материалы!A10 -> Тормозная жидкость EXEED DOT4 (1л) | D23: =Материалы!B10 -> 17321759 | E23: =Материалы!E10 -> 1 | F23: =Материалы!C10 -> 796.82292 | G23: =E23*F23 -> 796.82292
C24: =Материалы!A8 -> СВЕЧА ЗАЖИГАНИЯ T28P/M1EP/T1P-PHEV/T1JPHEV/T1EJP/T22PHEV/E0Y/T26P | D24: =Материалы!B8 -> 111200018AA | E24: =Материалы!E8 -> 4 | F24: =Материалы!C8 -> 2093.46 | G24: =E24*F24 -> 8373.84
C25: =Материалы!A12 -> ФИЛЬТР БАКА (АДСОРБЕР) T18FL3PHEV/T1DPHEV | D25: =Материалы!B12 -> 155000485AA | E25: =Материалы!E12 -> 1 | F25: =Материалы!C12 -> 2611.38 | G25: =F25*E25 -> 2611.38
C26: =Материалы!A13 -> Масло заднего тягового двигателя | D26: =Материалы!B13 -> SM12100002NE10 | E26: =Материалы!E13 -> 1.4 | F26: =Материалы!C13 -> 5103.63 | G26: =F26*E26 -> 7145.082
C27: =Материалы!A14 -> Пробка заднего тягового двигателя | D27: =Материалы!B14 -> 0 | E27: =Материалы!E14 -> 1 | F27: =Материалы!C14 -> 500 | G27: =F27*E27 -> 500
C28: Итого возможные дополнительные к замене расходные материалы | G28: =SUM(G17:G27) -> 39236.293
A29: Итого все возможные расходные материалы и работы | G29: =G3+G5+G16+G28 -> 113267.47

Sheet ТО-5
A1: 1.5 AWD | C1: ТО-5
C2: Наименование операции и норма времени, н/ч | F2: Стоимость нормочаса, руб | G2: Стоимость работ, руб
A3: Обязательные операции | B3: AWD | C3: ТО-5 (проводится при достижении 10000км пробега на топливе / 20000км общего пробега / 12мес. - что раньше после прохождения ТО-4) Это и последующие ТО выглядят одинаково в отношении табличного наполнения | D3: ='Регламент ТО'!$E$70 -> 2.9 | F3: ='Регламент ТО'!$C$69 -> 8000 | G3: =F3*D3 -> 23200
A5: Возможные доп. операции | D5: ='Регламент ТО'!H71 -> 4.1 | F5: ='Регламент ТО'!$C$69 -> 8000 | G5: =F5*D5 -> 32800
C7: Вид | D7: Артикул | E7: Количество, л(шт) | F7: Стоимость единицы наименования | G7: Стоимость
C8: =Материалы!A2 -> ФИЛЬТР МАСЛЯНЫЙ T15/JT18/J42/T19/T1A/T11FL3/T1E/T19/T1D/A11/A13/J15/A21/A19/J69/S18D | D8: =Материалы!B2 -> 480-1012010 | E8: =Материалы!E2 -> 1 | F8: =Материалы!F2 -> 911.51 | G8: =F8*E8 -> 911.51
C9: =Материалы!A21 -> Тефлоновая смазка для выдвижных ручек | D9: =Материалы!B21 -> 3258 | E9: =Материалы!E21 -> 1 | F9: =Материалы!C21 -> 512.82 | G9: =F9*E9 -> 512.82
C10: =Материалы!A20 -> Расходные материалы | D10: =Материалы!B20 -> rashodnik | E10: =Материалы!E20 -> 1 | F10: =Материалы!C20 -> 900 | G10: =F10*E10 -> 900
C11: =Материалы!A3 -> ПРОБКА ПОДДОНА ДВС СЛИВНАЯ МЕТАЛЛ | D11: =Материалы!B3 -> 372-1009014 | E11: =Материалы!E3 -> 1 | F11: =Материалы!C3 -> 181.11 | G11: =E11*F11 -> 181.11
C12: =Материалы!A5 -> Масло моторное Exeed 0W-20 API SP, ILSAC GF-6A, нк. 200 л | D12: =Материалы!B5 -> EXEED0W20200 | E12: =Материалы!E5 -> 4.5 | F12: =Материалы!C5 -> 212261.86 | G12: =(F12*E12)/200 -> 4775.8919
C13: =Материалы!A4 -> ШАЙБА СЛИВНОЙ ПРОБКИ ДВС | D13: =Материалы!B4 -> 372-1009017 | E13: =Материалы!E4 -> 1 | F13: =Материалы!C4 -> 53.69 | G13: =E13*F13 -> 53.69
C14: =Материалы!A6 -> ФИЛЬТР САЛОНА | D14: =Материалы!B6 -> 301003303AA | E14: =Материалы!E6 -> 1 | F14: =Материалы!C6 -> 5395.96 | G14: =E14*F14 -> 5395.96
C15: =Материалы!A7 -> ФИЛЬТР ВОЗДУШНЫЙ | D15: =Материалы!B7 -> 151000342AA | E15: =Материалы!E7 -> 1 | F15: =Материалы!C7 -> 5300.19 | G15: =E15*F15 -> 5300.19
C16: Итого обязательные к замене расходные материалы | G16: =SUM(G8:G15) -> 18031.172
C17: =Материалы!A11 -> Антифриз «EXEED» ОАТ 1л. | D17: =Материалы!B11 -> EXEEDOAT1L | E17: =Материалы!E11 -> 22 | F17: =Материалы!C11 -> 249.99547 | G17: =(F17*E17) -> 5499.9004
C18: =Материалы!A15 -> Масло переднего тягового двигателя (трансмиссии) | D18: =Материалы!B15 -> 351HHA-4004011AA10 | E18: =Материалы!E15 -> 4.8 | F18: =Материалы!C15 -> 2600.06 | G18: =E18*F18 -> 12480.288
C19: =Материалы!A16 -> НАПОРНЫЙ ФИЛЬТР T26P/T22P/M1EP/T1JPHEV/T28P | D19: =Материалы!B16 -> 125200000AA | E19: =Материалы!E16 -> 1 | F19: =Материалы!C16 -> 1127.47 | G19: =E19*F19 -> 1127.47
C20: =Материалы!A17 -> Прокладка корпуса фильтра переднего тягового мотора (трансмиссии) | D20: =Материалы!B17 -> 125200041AA | E20: =Материалы!E17 -> 1 | F20: =Материалы!C17 -> 215.51 | G20: =E20*F20 -> 215.51
C21: =Материалы!A18 -> Сливная пробка переднего тягового двигателя (трансмиссии) | D21: =Материалы!B18 -> 125100038AA | E21: =Материалы!E18 -> 1 | F21: =Материалы!C18 -> 343.98 | G21: =E21*F21 -> 343.98
C22: =Материалы!A19 -> ШАЙБА СЛИВНОГО БОЛТА КПП T1D/T1C/X-1PHEV/T18FL3PHEV | D22: =Материалы!B19 -> 351HHA-1502191 | E22: =Материалы!E19 -> 1 | F22: =Материалы!C19 -> 142.02 | G22: =E22*F22 -> 142.02
C23: =Материалы!A10 -> Тормозная жидкость EXEED DOT4 (1л) | D23: =Материалы!B10 -> 17321759 | E23: =Материалы!E10 -> 1 | F23: =Материалы!C10 -> 796.82292 | G23: =E23*F23 -> 796.82292
C24: =Материалы!A8 -> СВЕЧА ЗАЖИГАНИЯ T28P/M1EP/T1P-PHEV/T1JPHEV/T1EJP/T22PHEV/E0Y/T26P | D24: =Материалы!B8 -> 111200018AA | E24: =Материалы!E8 -> 4 | F24: =Материалы!C8 -> 2093.46 | G24: =E24*F24 -> 8373.84
C25: =Материалы!A12 -> ФИЛЬТР БАКА (АДСОРБЕР) T18FL3PHEV/T1DPHEV | D25: =Материалы!B12 -> 155000485AA | E25: =Материалы!E12 -> 1 | F25: =Материалы!C12 -> 2611.38 | G25: =F25*E25 -> 2611.38
C26: =Материалы!A13 -> Масло заднего тягового двигателя | D26: =Материалы!B13 -> SM12100002NE10 | E26: =Материалы!E13 -> 1.4 | F26: =Материалы!C13 -> 5103.63 | G26: =F26*E26 -> 7145.082
C27: =Материалы!A14 -> Пробка заднего тягового двигателя | D27: =Материалы!B14 -> 0 | E27: =Материалы!E14 -> 1 | F27: =Материалы!C14 -> 500 | G27: =F27*E27 -> 500
C28: Итого возможные дополнительные к замене расходные материалы | G28: =SUM(G17:G27) -> 39236.293
A29: Итого все возможные расходные материалы и работы | G29: =G3+G5+G16+G28 -> 113267.47
